BEGIN:VCALENDAR
VERSION:2.0
PRODID:-//Hookhills &amp; Broadsands Community Centre - ECPv6.5.0//NONSGML v1.0//EN
CALSCALE:GREGORIAN
METHOD:PUBLISH
X-WR-CALNAME:Hookhills &amp; Broadsands Community Centre
X-ORIGINAL-URL:https://www.hookhillscommunitycentre.co.uk
X-WR-CALDESC:Events for Hookhills &amp; Broadsands Community Centre
REFRESH-INTERVAL;VALUE=DURATION:PT1H
X-Robots-Tag:noindex
X-PUBLISHED-TTL:PT1H
BEGIN:VTIMEZONE
TZID:Europe/London
BEGIN:DAYLIGHT
TZOFFSETFROM:+0000
TZOFFSETTO:+0100
TZNAME:BST
DTSTART:20260329T010000
END:DAYLIGHT
BEGIN:STANDARD
TZOFFSETFROM:+0100
TZOFFSETTO:+0000
TZNAME:GMT
DTSTART:20261025T010000
END:STANDARD
END:VTIMEZONE
BEGIN:VEVENT
DTSTART;TZID=Europe/London:20260422T113000
DTEND;TZID=Europe/London:20260422T123000
DTSTAMP:20260422T015722
CREATED:20240718T104949Z
LAST-MODIFIED:20240731T101409Z
UID:10006153-1776857400-1776861000@www.hookhillscommunitycentre.co.uk
SUMMARY:Pilates Magic
DESCRIPTION:Want to be healthy and keep in trim\, then why not join a session at the club. \nGentle movement suitable for men and women of all ages and levels of fitness \nImproves posture\, flexibility and strength \nClasses cost £7 per session or £36 for six sessions \nFor more information or to book\, please contact Georgina Bell on 07803 985852
URL:https://www.hookhillscommunitycentre.co.uk/event/pilates-magic-2-2/2026-04-22/
LOCATION:Hookhills Community Centre\, Freshwater Drive\, Paignton\, Devon\, TQ4 7SB\, United Kingdom
CATEGORIES:Recurring Events
ATTACH;FMTTYPE=image/jpeg:https://www.hookhillscommunitycentre.co.uk/wp-content/uploads/2024/07/Slide56.jpg
GEO:50.4094084;-3.5683209
X-APPLE-STRUCTURED-LOCATION;VALUE=URI;X-ADDRESS=Hookhills Community Centre Freshwater Drive Paignton Devon TQ4 7SB United Kingdom;X-APPLE-RADIUS=500;X-TITLE=Freshwater Drive:geo:-3.5683209,50.4094084
END:VEVENT
BEGIN:VEVENT
DTSTART;TZID=Europe/London:20260422T140000
DTEND;TZID=Europe/London:20260422T160000
DTSTAMP:20260422T015722
CREATED:20250810T095748Z
LAST-MODIFIED:20250810T095750Z
UID:10006322-1776866400-1776873600@www.hookhillscommunitycentre.co.uk
SUMMARY:Water colour painting
DESCRIPTION:Why not spend a few hours of painting with tutor Mike on a Wednesday afternoon. Use your imagination or image and put it down in water colour paint. Such a relaxing 2 hours of enjoyment. Mike charges £12 for 2 hours. And you are provided with brushes and paint to start with as well\, and with canvas! For more info Email: hookhills@hotmail.co.uk
URL:https://www.hookhillscommunitycentre.co.uk/event/water-colour-painting-2-2-2/2026-04-22/
LOCATION:Hookhills Community Centre\, Freshwater Drive\, Paignton\, Devon\, TQ4 7SB\, United Kingdom
CATEGORIES:Recurring Events
ATTACH;FMTTYPE=image/jpeg:https://www.hookhillscommunitycentre.co.uk/wp-content/uploads/2025/05/Slide71.jpg
GEO:50.4094084;-3.5683209
X-APPLE-STRUCTURED-LOCATION;VALUE=URI;X-ADDRESS=Hookhills Community Centre Freshwater Drive Paignton Devon TQ4 7SB United Kingdom;X-APPLE-RADIUS=500;X-TITLE=Freshwater Drive:geo:-3.5683209,50.4094084
END:VEVENT
BEGIN:VEVENT
DTSTART;TZID=Europe/London:20260422T180000
DTEND;TZID=Europe/London:20260422T220000
DTSTAMP:20260422T015722
CREATED:20250228T123832Z
LAST-MODIFIED:20250228T123833Z
UID:10009720-1776880800-1776895200@www.hookhillscommunitycentre.co.uk
SUMMARY:Bridge Every Wednesday night
DESCRIPTION:Every Wednesday night at 6.00pm. On this night it is for learners!!! If you are interested please contact the following: \nSecretary: Robin Lount – 01803 842976 \nChairman: John Spencer – 01803 845830 \ne-mail: john4007@spencerdj.plus.com
URL:https://www.hookhillscommunitycentre.co.uk/event/bridge-every-wednesday-night-2/2026-04-22/
LOCATION:Hookhills Community Centre\, Freshwater Drive\, Paignton\, Devon\, TQ4 7SB\, United Kingdom
CATEGORIES:Recurring Events
ATTACH;FMTTYPE=image/jpeg:https://www.hookhillscommunitycentre.co.uk/wp-content/uploads/2024/08/Slide53.jpg
GEO:50.4094084;-3.5683209
X-APPLE-STRUCTURED-LOCATION;VALUE=URI;X-ADDRESS=Hookhills Community Centre Freshwater Drive Paignton Devon TQ4 7SB United Kingdom;X-APPLE-RADIUS=500;X-TITLE=Freshwater Drive:geo:-3.5683209,50.4094084
END:VEVENT
END:VCALENDAR