BEGIN:VCALENDAR
VERSION:2.0
PRODID:-//Hookhills &amp; Broadsands Community Centre - ECPv6.5.0//NONSGML v1.0//EN
CALSCALE:GREGORIAN
METHOD:PUBLISH
X-WR-CALNAME:Hookhills &amp; Broadsands Community Centre
X-ORIGINAL-URL:https://www.hookhillscommunitycentre.co.uk
X-WR-CALDESC:Events for Hookhills &amp; Broadsands Community Centre
REFRESH-INTERVAL;VALUE=DURATION:PT1H
X-Robots-Tag:noindex
X-PUBLISHED-TTL:PT1H
BEGIN:VTIMEZONE
TZID:Europe/London
BEGIN:DAYLIGHT
TZOFFSETFROM:+0000
TZOFFSETTO:+0100
TZNAME:BST
DTSTART:20260329T010000
END:DAYLIGHT
BEGIN:STANDARD
TZOFFSETFROM:+0100
TZOFFSETTO:+0000
TZNAME:GMT
DTSTART:20261025T010000
END:STANDARD
END:VTIMEZONE
BEGIN:VEVENT
DTSTART;TZID=Europe/London:20260222T143000
DTEND;TZID=Europe/London:20260222T150000
DTSTAMP:20260422T082326
CREATED:20250130T102036Z
LAST-MODIFIED:20250130T102037Z
UID:10005807-1771770600-1771772400@www.hookhillscommunitycentre.co.uk
SUMMARY:Weekly Sunday Meat Draw
DESCRIPTION:Hookhills Community Centre Sunday’s Meat Draw\, Tickets £1 per 5 Numbers. Vouchers issued to winners to use in Paignton and Galmpton Butchers. Vouchers Valid till December 31st of each year. Vouchers are in the value of £5. Last call on tickets is on Sunday’s 2.15pm The draw takes place around 2.30pm Please note that some proceeds goes towards the upkeep of the Club!!! Also note: Tickets are available throughout the week after each draw.
URL:https://www.hookhillscommunitycentre.co.uk/event/meat-draw-2-2-2-2/2026-02-22/
LOCATION:Hookhills Community Centre\, Freshwater Drive\, Paignton\, Devon\, TQ4 7SB\, United Kingdom
CATEGORIES:Recurring Events
ATTACH;FMTTYPE=image/jpeg:https://www.hookhillscommunitycentre.co.uk/wp-content/uploads/2024/12/Slide35-1.jpg
GEO:50.4094084;-3.5683209
X-APPLE-STRUCTURED-LOCATION;VALUE=URI;X-ADDRESS=Hookhills Community Centre Freshwater Drive Paignton Devon TQ4 7SB United Kingdom;X-APPLE-RADIUS=500;X-TITLE=Freshwater Drive:geo:-3.5683209,50.4094084
END:VEVENT
BEGIN:VEVENT
DTSTART;TZID=Europe/London:20260228T200000
DTEND;TZID=Europe/London:20260228T230000
DTSTAMP:20260422T082326
CREATED:20260225T124948Z
LAST-MODIFIED:20260225T125019Z
UID:10014005-1772308800-1772319600@www.hookhillscommunitycentre.co.uk
SUMMARY:Hookhills Community Centre Free Entertainment
DESCRIPTION:It’s almost time for our monthly entertainment up in the members bar (children and guests welcome) adult guests please need to be signed in.Book him in on your calendar\, definitely not one to miss. And don’t forget it is free.
URL:https://www.hookhillscommunitycentre.co.uk/event/hookhills-community-centre-free-entertainment/
LOCATION:Hookhills Community Centre\, Freshwater Drive\, Paignton\, Devon\, TQ4 7SB\, United Kingdom
CATEGORIES:One Time Events
ATTACH;FMTTYPE=image/jpeg:https://www.hookhillscommunitycentre.co.uk/wp-content/uploads/2026/02/Slide4.jpg
GEO:50.4094084;-3.5683209
X-APPLE-STRUCTURED-LOCATION;VALUE=URI;X-ADDRESS=Hookhills Community Centre Freshwater Drive Paignton Devon TQ4 7SB United Kingdom;X-APPLE-RADIUS=500;X-TITLE=Freshwater Drive:geo:-3.5683209,50.4094084
END:VEVENT
BEGIN:VEVENT
DTSTART;TZID=Europe/London:20260307T200000
DTEND;TZID=Europe/London:20260307T223000
DTSTAMP:20260422T082326
CREATED:20260109T132739Z
LAST-MODIFIED:20260307T110258Z
UID:10013868-1772913600-1772922600@www.hookhillscommunitycentre.co.uk
SUMMARY:Diggy Karaoke Hookhills Community Centre
DESCRIPTION:Don’t forget guys it’s disco Diggy debut tonight\, with Karaoke involved\, come a long and sing/dance your heart away\, and enjoy a reasonable priced drink in what is a great atmosphere of chatting/singing with fellow members and even make new friends.
URL:https://www.hookhillscommunitycentre.co.uk/event/dean-winters-at-hookhills-community-centre/
LOCATION:Hookhills Community Centre\, Freshwater Drive\, Paignton\, Devon\, TQ4 7SB\, United Kingdom
CATEGORIES:One Time Events
ATTACH;FMTTYPE=image/jpeg:https://www.hookhillscommunitycentre.co.uk/wp-content/uploads/2026/01/Slide2-7.jpg
GEO:50.4094084;-3.5683209
X-APPLE-STRUCTURED-LOCATION;VALUE=URI;X-ADDRESS=Hookhills Community Centre Freshwater Drive Paignton Devon TQ4 7SB United Kingdom;X-APPLE-RADIUS=500;X-TITLE=Freshwater Drive:geo:-3.5683209,50.4094084
END:VEVENT
BEGIN:VEVENT
DTSTART;TZID=Europe/London:20260312T114500
DTEND;TZID=Europe/London:20260312T160000
DTSTAMP:20260422T082326
CREATED:20260225T133101Z
LAST-MODIFIED:20260303T131326Z
UID:10014006-1773315900-1773331200@www.hookhillscommunitycentre.co.uk
SUMMARY:Hookhills Community Centre - Bake Sale- Rowcroft Hospice
DESCRIPTION:Zoe Anne from Offbeat Dance & Fitness is holding a coffee/cake sale after her Zumba class on Thursday 12th March. Anyone and everyone is welcome. Lovely reason to meet up\, socialise\, make friends and try to make lots of funds for a very good cause.
URL:https://www.hookhillscommunitycentre.co.uk/event/hookhills-community-centre-rowcroft-hospice/
LOCATION:Hookhills Community Centre\, Freshwater Drive\, Paignton\, Devon\, TQ4 7SB\, United Kingdom
CATEGORIES:One Time Events
ATTACH;FMTTYPE=image/jpeg:https://www.hookhillscommunitycentre.co.uk/wp-content/uploads/2026/02/Slide2-4.jpg
GEO:50.4094084;-3.5683209
X-APPLE-STRUCTURED-LOCATION;VALUE=URI;X-ADDRESS=Hookhills Community Centre Freshwater Drive Paignton Devon TQ4 7SB United Kingdom;X-APPLE-RADIUS=500;X-TITLE=Freshwater Drive:geo:-3.5683209,50.4094084
END:VEVENT
BEGIN:VEVENT
DTSTART;TZID=Europe/London:20260319T183000
DTEND;TZID=Europe/London:20260319T200000
DTSTAMP:20260422T082326
CREATED:20250205T112942Z
LAST-MODIFIED:20260306T112717Z
UID:10011131-1773945000-1773950400@www.hookhillscommunitycentre.co.uk
SUMMARY:Offbeat Dance & Fitness
DESCRIPTION:Western Workshop are doing an evening here at the Hookhills Community Centre  6.30pm – 8.00pm. Join us for a good old fashioned hoedown as we take you through easy to follow line dances. Suitable for all abilities. £10 per person. Please call to book: 07488 389512.
URL:https://www.hookhillscommunitycentre.co.uk/event/offbeat-dance-fitness/
LOCATION:Hookhills Community Centre\, Freshwater Drive\, Paignton\, Devon\, TQ4 7SB\, United Kingdom
CATEGORIES:One Time Events
ATTACH;FMTTYPE=image/jpeg:https://www.hookhillscommunitycentre.co.uk/wp-content/uploads/2025/02/Slide7.jpg
GEO:50.4094084;-3.5683209
X-APPLE-STRUCTURED-LOCATION;VALUE=URI;X-ADDRESS=Hookhills Community Centre Freshwater Drive Paignton Devon TQ4 7SB United Kingdom;X-APPLE-RADIUS=500;X-TITLE=Freshwater Drive:geo:-3.5683209,50.4094084
END:VEVENT
BEGIN:VEVENT
DTSTART;TZID=Europe/London:20260321T120000
DTEND;TZID=Europe/London:20260321T190000
DTSTAMP:20260422T082326
CREATED:20260109T130515Z
LAST-MODIFIED:20260306T121754Z
UID:10013867-1774094400-1774119600@www.hookhillscommunitycentre.co.uk
SUMMARY:Hookhills Community Centre Litter Pick!
DESCRIPTION:Join us for clean – up Day! Help make our community a cleaner\, greener place by volunteering  to pick up litter and beautify our neighbourhood. All equipment will be issued except Gloves. Light refreshments will be available.
URL:https://www.hookhillscommunitycentre.co.uk/event/skittles-kids-v-adults/
LOCATION:Hookhills Community Centre\, Freshwater Drive\, Paignton\, Devon\, TQ4 7SB\, United Kingdom
CATEGORIES:One Time Events
ATTACH;FMTTYPE=image/jpeg:https://www.hookhillscommunitycentre.co.uk/wp-content/uploads/2026/01/Slide5-2.jpg
GEO:50.4094084;-3.5683209
X-APPLE-STRUCTURED-LOCATION;VALUE=URI;X-ADDRESS=Hookhills Community Centre Freshwater Drive Paignton Devon TQ4 7SB United Kingdom;X-APPLE-RADIUS=500;X-TITLE=Freshwater Drive:geo:-3.5683209,50.4094084
END:VEVENT
BEGIN:VEVENT
DTSTART;TZID=Europe/London:20260321T190000
DTEND;TZID=Europe/London:20260321T223000
DTSTAMP:20260422T082326
CREATED:20250503T105757Z
LAST-MODIFIED:20260316T093919Z
UID:10012072-1774119600-1774132200@www.hookhillscommunitycentre.co.uk
SUMMARY:Saturday Quiz Night
DESCRIPTION:We have introduced a mid month quiz night with happy hour to start the evening off. To enter this quiz you pay an entry fee of £1 per player. The winning team takes the winnings. So remember you have a happy hour before the quiz starts. Enjoy.
URL:https://www.hookhillscommunitycentre.co.uk/event/saturday-quiz-night/
LOCATION:Hookhills Community Centre\, Freshwater Drive\, Paignton\, Devon\, TQ4 7SB\, United Kingdom
CATEGORIES:One Time Events
ATTACH;FMTTYPE=image/jpeg:https://www.hookhillscommunitycentre.co.uk/wp-content/uploads/2026/03/Slide65.jpg
GEO:50.4094084;-3.5683209
X-APPLE-STRUCTURED-LOCATION;VALUE=URI;X-ADDRESS=Hookhills Community Centre Freshwater Drive Paignton Devon TQ4 7SB United Kingdom;X-APPLE-RADIUS=500;X-TITLE=Freshwater Drive:geo:-3.5683209,50.4094084
END:VEVENT
BEGIN:VEVENT
DTSTART;TZID=Europe/London:20260321T200000
DTEND;TZID=Europe/London:20260321T230000
DTSTAMP:20260422T082326
CREATED:20260210T113155Z
LAST-MODIFIED:20260306T120624Z
UID:10013949-1774123200-1774134000@www.hookhillscommunitycentre.co.uk
SUMMARY:Hookhills Community Centre Virtual Dog & Horse Racing Night
DESCRIPTION:FREE ENTRY. But you will pay to enter races!!! \nJoin us for a night of laughter and competitiveness. Tell your friends and family to pop up too. Cash prizes \nJason Lloyd will be entertaining us for the evening \nPlease like\, share\, support
URL:https://www.hookhillscommunitycentre.co.uk/event/hokhills-community-centre-virtual-dog-horse-racing-night/
LOCATION:Hookhills Community Centre\, Freshwater Drive\, Paignton\, Devon\, TQ4 7SB\, United Kingdom
CATEGORIES:One Time Events
ATTACH;FMTTYPE=image/jpeg:https://www.hookhillscommunitycentre.co.uk/wp-content/uploads/2026/02/Slide2-1.jpg
GEO:50.4094084;-3.5683209
X-APPLE-STRUCTURED-LOCATION;VALUE=URI;X-ADDRESS=Hookhills Community Centre Freshwater Drive Paignton Devon TQ4 7SB United Kingdom;X-APPLE-RADIUS=500;X-TITLE=Freshwater Drive:geo:-3.5683209,50.4094084
END:VEVENT
BEGIN:VEVENT
DTSTART;TZID=Europe/London:20260328T130000
DTEND;TZID=Europe/London:20260328T150000
DTSTAMP:20260422T082326
CREATED:20260316T095427Z
LAST-MODIFIED:20260316T095515Z
UID:10014064-1774702800-1774710000@www.hookhillscommunitycentre.co.uk
SUMMARY:Easter At Hookhills Community Centre
DESCRIPTION:Let’s talk Easter  \nSome fantastic events to book onto through Lianne Simpson limited spaces for all of them so please be quick to avoid disappointment. Great for all ages to enjoy special time together and make new friends too! \nPlease like\, share\, support  \nNon members very welcome too. \nPayment secures space. \n£3 per Child including lunch. Bring along a bonnet/hat to decorate with crafts supplied. Prize for the best decorated hat. Also a hat parade. \nLimited Spaces.
URL:https://www.hookhillscommunitycentre.co.uk/event/easter-at-hookhills-community-centre/
LOCATION:Hookhills Community Centre\, Freshwater Drive\, Paignton\, Devon\, TQ4 7SB\, United Kingdom
CATEGORIES:One Time Events
ATTACH;FMTTYPE=image/jpeg:https://www.hookhillscommunitycentre.co.uk/wp-content/uploads/2026/03/Slide15.jpg
GEO:50.4094084;-3.5683209
X-APPLE-STRUCTURED-LOCATION;VALUE=URI;X-ADDRESS=Hookhills Community Centre Freshwater Drive Paignton Devon TQ4 7SB United Kingdom;X-APPLE-RADIUS=500;X-TITLE=Freshwater Drive:geo:-3.5683209,50.4094084
END:VEVENT
BEGIN:VEVENT
DTSTART;TZID=Europe/London:20260405T190000
DTEND;TZID=Europe/London:20260405T220000
DTSTAMP:20260422T082326
CREATED:20241006T100424Z
LAST-MODIFIED:20260316T093657Z
UID:10010208-1775415600-1775426400@www.hookhillscommunitycentre.co.uk
SUMMARY:Sunday Quiz Night
DESCRIPTION:Why not come a long on the first Sunday of the Month for Quiz night 7pm. Make new friends\, have a chat\, and even see if you can win!!!
URL:https://www.hookhillscommunitycentre.co.uk/event/sunday-quiz-night/
LOCATION:Hookhills Community Centre\, Freshwater Drive\, Paignton\, Devon\, TQ4 7SB\, United Kingdom
CATEGORIES:One Time Events
ATTACH;FMTTYPE=image/jpeg:https://www.hookhillscommunitycentre.co.uk/wp-content/uploads/2026/03/Slide66.jpg
GEO:50.4094084;-3.5683209
X-APPLE-STRUCTURED-LOCATION;VALUE=URI;X-ADDRESS=Hookhills Community Centre Freshwater Drive Paignton Devon TQ4 7SB United Kingdom;X-APPLE-RADIUS=500;X-TITLE=Freshwater Drive:geo:-3.5683209,50.4094084
END:VEVENT
BEGIN:VEVENT
DTSTART;TZID=Europe/London:20260418T200000
DTEND;TZID=Europe/London:20260418T230000
DTSTAMP:20260422T082326
CREATED:20260109T134146Z
LAST-MODIFIED:20260317T123456Z
UID:10013869-1776542400-1776553200@www.hookhillscommunitycentre.co.uk
SUMMARY:Reggae Night At Hookhills Community Centre
DESCRIPTION:Another great free night for members if you like to dance the night away\, come a long and enjoy the company with fellow members. Guests unfortunately it is £1 entry. \n\n\n\n\n\nThe Jerk Yard Caribbean Takeaway – Paignton Beautiful People  · Rocky Dawuni ·\n\n\n\n\n\n\n\n\n\n\n\n\n\n JERK YARD PRESENTS: SKA & REGGAE NIGHT! \n Paignton\, get ready to MOVE! Live ska & reggae vibes with Target Auditions Promotions – dance\, sing\, and feel the rhythm all night! \n Hookhills Community Centre\, Freshwater Drive\, Paignton TQ4 7SB\n Saturday 18th April | 8PM – 11PM \n BUFFET MENU £15 PER PLATE \n Jerk Chicken |  Brown Stew |  Curried Goat\n Lemon Pepper Wings |  Steamed Veg |  Rice & Peas |  Mac & Cheese\n ONLY 30 PLATES! When it’s gone… it’s GONE! \n Why you can’t miss this:\n Live music + tropical vibes\n Caribbean flavours straight from the Jerk Yard\n Fun\, friends & good times
URL:https://www.hookhillscommunitycentre.co.uk/event/reggae-night-at-hookhills-community-centre/
LOCATION:Hookhills Community Centre\, Freshwater Drive\, Paignton\, Devon\, TQ4 7SB\, United Kingdom
CATEGORIES:One Time Events
ATTACH;FMTTYPE=image/jpeg:https://www.hookhillscommunitycentre.co.uk/wp-content/uploads/2026/01/Slide31.jpg
GEO:50.4094084;-3.5683209
X-APPLE-STRUCTURED-LOCATION;VALUE=URI;X-ADDRESS=Hookhills Community Centre Freshwater Drive Paignton Devon TQ4 7SB United Kingdom;X-APPLE-RADIUS=500;X-TITLE=Freshwater Drive:geo:-3.5683209,50.4094084
END:VEVENT
END:VCALENDAR