BEGIN:VCALENDAR
VERSION:2.0
PRODID:-//Hookhills &amp; Broadsands Community Centre - ECPv6.5.0//NONSGML v1.0//EN
CALSCALE:GREGORIAN
METHOD:PUBLISH
X-ORIGINAL-URL:https://www.hookhillscommunitycentre.co.uk
X-WR-CALDESC:Events for Hookhills &amp; Broadsands Community Centre
REFRESH-INTERVAL;VALUE=DURATION:PT1H
X-Robots-Tag:noindex
X-PUBLISHED-TTL:PT1H
BEGIN:VTIMEZONE
TZID:Europe/London
BEGIN:DAYLIGHT
TZOFFSETFROM:+0000
TZOFFSETTO:+0100
TZNAME:BST
DTSTART:20260329T010000
END:DAYLIGHT
BEGIN:STANDARD
TZOFFSETFROM:+0100
TZOFFSETTO:+0000
TZNAME:GMT
DTSTART:20261025T010000
END:STANDARD
END:VTIMEZONE
BEGIN:VEVENT
DTSTART;TZID=Europe/London:20260908T093000
DTEND;TZID=Europe/London:20260908T104500
DTSTAMP:20260421T164649
CREATED:20250719T120446Z
LAST-MODIFIED:20250719T120448Z
UID:10012594-1788859800-1788864300@www.hookhillscommunitycentre.co.uk
SUMMARY:Threadgold Fitness
DESCRIPTION:Threadgold fitness every Tuesday at 9.30 – 10.45am. If you are interested please call Karen on 07549 412044 or Email: karen@threadgoldfitness.com \nThis is a good time to meet new friends and fellow members!!!
URL:https://www.hookhillscommunitycentre.co.uk/event/threadgold-fitness-2/2026-09-08/
LOCATION:Hookhills Community Centre\, Freshwater Drive\, Paignton\, Devon\, TQ4 7SB\, United Kingdom
CATEGORIES:Recurring Events
ATTACH;FMTTYPE=image/jpeg:https://www.hookhillscommunitycentre.co.uk/wp-content/uploads/2025/07/Slide42.jpg
GEO:50.4094084;-3.5683209
X-APPLE-STRUCTURED-LOCATION;VALUE=URI;X-ADDRESS=Hookhills Community Centre Freshwater Drive Paignton Devon TQ4 7SB United Kingdom;X-APPLE-RADIUS=500;X-TITLE=Freshwater Drive:geo:-3.5683209,50.4094084
END:VEVENT
BEGIN:VEVENT
DTSTART;TZID=Europe/London:20260908T123000
DTEND;TZID=Europe/London:20260908T143000
DTSTAMP:20260421T164649
CREATED:20250419T133033Z
LAST-MODIFIED:20250419T133034Z
UID:10008066-1788870600-1788877800@www.hookhillscommunitycentre.co.uk
SUMMARY:Tuesday Lunch Club At Hookhills Community centre
DESCRIPTION:Why not come and have lunch at Hookhills community centre for a very good price! Sit down enjoy your lunch with other members or even guests. Make new friends\, and enjoy the company. For the price of £8 or £7 if you want to take your meal home! 12.30pm – 2.30pm
URL:https://www.hookhillscommunitycentre.co.uk/event/tuesday-lunch-club-at-hookhills-community-centre-2-2-2-2-2-2-2/2026-09-08/
LOCATION:Hookhills Community Centre\, Freshwater Drive\, Paignton\, Devon\, TQ4 7SB\, United Kingdom
CATEGORIES:Recurring Events
ATTACH;FMTTYPE=image/jpeg:https://www.hookhillscommunitycentre.co.uk/wp-content/uploads/2025/01/Slide36.jpg
GEO:50.4094084;-3.5683209
X-APPLE-STRUCTURED-LOCATION;VALUE=URI;X-ADDRESS=Hookhills Community Centre Freshwater Drive Paignton Devon TQ4 7SB United Kingdom;X-APPLE-RADIUS=500;X-TITLE=Freshwater Drive:geo:-3.5683209,50.4094084
END:VEVENT
BEGIN:VEVENT
DTSTART;TZID=Europe/London:20260908T190000
DTEND;TZID=Europe/London:20260908T213000
DTSTAMP:20260421T164649
CREATED:20251111T120132Z
LAST-MODIFIED:20251111T120134Z
UID:10013193-1788894000-1788903000@www.hookhillscommunitycentre.co.uk
SUMMARY:Hookhills Members Bingo
DESCRIPTION:Why not come out on a Tuesday evening in the members bar for a few hours of bingo in the company of fellow members\, or if you need company and a chat. You could be a winner as well. The evening starts 7.00 pm eyes down for 7.30pm! Enjoy.
URL:https://www.hookhillscommunitycentre.co.uk/event/hookhills-members-bingo-2-2-2/2026-09-08/
LOCATION:Hookhills Community Centre\, Freshwater Drive\, Paignton\, Devon\, TQ4 7SB\, United Kingdom
CATEGORIES:Recurring Events
ATTACH;FMTTYPE=image/jpeg:https://www.hookhillscommunitycentre.co.uk/wp-content/uploads/2025/04/Slide130.jpg
GEO:50.4094084;-3.5683209
X-APPLE-STRUCTURED-LOCATION;VALUE=URI;X-ADDRESS=Hookhills Community Centre Freshwater Drive Paignton Devon TQ4 7SB United Kingdom;X-APPLE-RADIUS=500;X-TITLE=Freshwater Drive:geo:-3.5683209,50.4094084
END:VEVENT
BEGIN:VEVENT
DTSTART;TZID=Europe/London:20260909T113000
DTEND;TZID=Europe/London:20260909T123000
DTSTAMP:20260421T164649
CREATED:20240718T104949Z
LAST-MODIFIED:20240731T101409Z
UID:10006173-1788953400-1788957000@www.hookhillscommunitycentre.co.uk
SUMMARY:Pilates Magic
DESCRIPTION:Want to be healthy and keep in trim\, then why not join a session at the club. \nGentle movement suitable for men and women of all ages and levels of fitness \nImproves posture\, flexibility and strength \nClasses cost £7 per session or £36 for six sessions \nFor more information or to book\, please contact Georgina Bell on 07803 985852
URL:https://www.hookhillscommunitycentre.co.uk/event/pilates-magic-2-2/2026-09-09/
LOCATION:Hookhills Community Centre\, Freshwater Drive\, Paignton\, Devon\, TQ4 7SB\, United Kingdom
CATEGORIES:Recurring Events
ATTACH;FMTTYPE=image/jpeg:https://www.hookhillscommunitycentre.co.uk/wp-content/uploads/2024/07/Slide56.jpg
GEO:50.4094084;-3.5683209
X-APPLE-STRUCTURED-LOCATION;VALUE=URI;X-ADDRESS=Hookhills Community Centre Freshwater Drive Paignton Devon TQ4 7SB United Kingdom;X-APPLE-RADIUS=500;X-TITLE=Freshwater Drive:geo:-3.5683209,50.4094084
END:VEVENT
BEGIN:VEVENT
DTSTART;TZID=Europe/London:20260909T140000
DTEND;TZID=Europe/London:20260909T160000
DTSTAMP:20260421T164649
CREATED:20250810T095748Z
LAST-MODIFIED:20250810T095750Z
UID:10006342-1788962400-1788969600@www.hookhillscommunitycentre.co.uk
SUMMARY:Water colour painting
DESCRIPTION:Why not spend a few hours of painting with tutor Mike on a Wednesday afternoon. Use your imagination or image and put it down in water colour paint. Such a relaxing 2 hours of enjoyment. Mike charges £12 for 2 hours. And you are provided with brushes and paint to start with as well\, and with canvas! For more info Email: hookhills@hotmail.co.uk
URL:https://www.hookhillscommunitycentre.co.uk/event/water-colour-painting-2-2-2/2026-09-09/
LOCATION:Hookhills Community Centre\, Freshwater Drive\, Paignton\, Devon\, TQ4 7SB\, United Kingdom
CATEGORIES:Recurring Events
ATTACH;FMTTYPE=image/jpeg:https://www.hookhillscommunitycentre.co.uk/wp-content/uploads/2025/05/Slide71.jpg
GEO:50.4094084;-3.5683209
X-APPLE-STRUCTURED-LOCATION;VALUE=URI;X-ADDRESS=Hookhills Community Centre Freshwater Drive Paignton Devon TQ4 7SB United Kingdom;X-APPLE-RADIUS=500;X-TITLE=Freshwater Drive:geo:-3.5683209,50.4094084
END:VEVENT
BEGIN:VEVENT
DTSTART;TZID=Europe/London:20260909T180000
DTEND;TZID=Europe/London:20260909T220000
DTSTAMP:20260421T164649
CREATED:20250228T123832Z
LAST-MODIFIED:20250228T123833Z
UID:10009740-1788976800-1788991200@www.hookhillscommunitycentre.co.uk
SUMMARY:Bridge Every Wednesday night
DESCRIPTION:Every Wednesday night at 6.00pm. On this night it is for learners!!! If you are interested please contact the following: \nSecretary: Robin Lount – 01803 842976 \nChairman: John Spencer – 01803 845830 \ne-mail: john4007@spencerdj.plus.com
URL:https://www.hookhillscommunitycentre.co.uk/event/bridge-every-wednesday-night-2/2026-09-09/
LOCATION:Hookhills Community Centre\, Freshwater Drive\, Paignton\, Devon\, TQ4 7SB\, United Kingdom
CATEGORIES:Recurring Events
ATTACH;FMTTYPE=image/jpeg:https://www.hookhillscommunitycentre.co.uk/wp-content/uploads/2024/08/Slide53.jpg
GEO:50.4094084;-3.5683209
X-APPLE-STRUCTURED-LOCATION;VALUE=URI;X-ADDRESS=Hookhills Community Centre Freshwater Drive Paignton Devon TQ4 7SB United Kingdom;X-APPLE-RADIUS=500;X-TITLE=Freshwater Drive:geo:-3.5683209,50.4094084
END:VEVENT
BEGIN:VEVENT
DTSTART;TZID=Europe/London:20260910T104500
DTEND;TZID=Europe/London:20260910T114500
DTSTAMP:20260421T164649
CREATED:20250118T132640Z
LAST-MODIFIED:20250118T132641Z
UID:10006511-1789037100-1789040700@www.hookhillscommunitycentre.co.uk
SUMMARY:Zumba
DESCRIPTION:Why not join the group in a workout\, enjoy the company and sweat it out together here at hookhills community centre. \nEvery Thursday 10:45 – 11:45 am \nMobile: 07488 389512
URL:https://www.hookhillscommunitycentre.co.uk/event/zumba-gold-2-2-2/2026-09-10/
LOCATION:Hookhills Community Centre\, Freshwater Drive\, Paignton\, Devon\, TQ4 7SB\, United Kingdom
CATEGORIES:Recurring Events
ATTACH;FMTTYPE=image/jpeg:https://www.hookhillscommunitycentre.co.uk/wp-content/uploads/2024/12/Slide35.jpg
GEO:50.4094084;-3.5683209
X-APPLE-STRUCTURED-LOCATION;VALUE=URI;X-ADDRESS=Hookhills Community Centre Freshwater Drive Paignton Devon TQ4 7SB United Kingdom;X-APPLE-RADIUS=500;X-TITLE=Freshwater Drive:geo:-3.5683209,50.4094084
END:VEVENT
BEGIN:VEVENT
DTSTART;TZID=Europe/London:20260910T180000
DTEND;TZID=Europe/London:20260910T190000
DTSTAMP:20260421T164649
CREATED:20250127T103809Z
LAST-MODIFIED:20250127T103810Z
UID:10008514-1789063200-1789066800@www.hookhillscommunitycentre.co.uk
SUMMARY:Dog Training/Recall
DESCRIPTION:Dog training here at Hookhills Community Centre down stairs outside dance hall. This will be held throughout most of the year on Thursday’s for one hour 6pm-7pm. Saturdays may become included.  If you are interested. Please enquire for all sessions before you book. \nPlease Contact Clare 07984055407
URL:https://www.hookhillscommunitycentre.co.uk/event/dog-training-recall-2-2-2-2-2-2-2-2-2/2026-09-10/
LOCATION:Hookhills Community Centre\, Freshwater Drive\, Paignton\, Devon\, TQ4 7SB\, United Kingdom
CATEGORIES:Recurring Events
ATTACH;FMTTYPE=image/jpeg:https://www.hookhillscommunitycentre.co.uk/wp-content/uploads/2024/12/Slide29.jpg
GEO:50.4094084;-3.5683209
X-APPLE-STRUCTURED-LOCATION;VALUE=URI;X-ADDRESS=Hookhills Community Centre Freshwater Drive Paignton Devon TQ4 7SB United Kingdom;X-APPLE-RADIUS=500;X-TITLE=Freshwater Drive:geo:-3.5683209,50.4094084
END:VEVENT
BEGIN:VEVENT
DTSTART;TZID=Europe/London:20260910T190000
DTEND;TZID=Europe/London:20260910T213000
DTSTAMP:20260421T164649
CREATED:20250521T141622Z
LAST-MODIFIED:20250521T141623Z
UID:10006680-1789066800-1789075800@www.hookhillscommunitycentre.co.uk
SUMMARY:Euchre
DESCRIPTION:If you fancy a game on a Thursday evenings from 7pm or if you like to learn the game then please feel free to come along. This is on a trial bases. So please contact the club on 01803 845250 or email:- hookhills@hotmail.co.uk
URL:https://www.hookhillscommunitycentre.co.uk/event/euchre-cribbage-2-2-2/2026-09-10/
LOCATION:Hookhills Community Centre\, Freshwater Drive\, Paignton\, Devon\, TQ4 7SB\, United Kingdom
CATEGORIES:Recurring Events
ATTACH;FMTTYPE=image/jpeg:https://www.hookhillscommunitycentre.co.uk/wp-content/uploads/2023/12/Slide5.jpg
GEO:50.4094084;-3.5683209
X-APPLE-STRUCTURED-LOCATION;VALUE=URI;X-ADDRESS=Hookhills Community Centre Freshwater Drive Paignton Devon TQ4 7SB United Kingdom;X-APPLE-RADIUS=500;X-TITLE=Freshwater Drive:geo:-3.5683209,50.4094084
END:VEVENT
BEGIN:VEVENT
DTSTART;TZID=Europe/London:20260910T200000
DTEND;TZID=Europe/London:20260910T220000
DTSTAMP:20260421T164649
CREATED:20251111T114945Z
LAST-MODIFIED:20251111T114946Z
UID:10008695-1789070400-1789077600@www.hookhillscommunitycentre.co.uk
SUMMARY:Social Skittles
DESCRIPTION:Thursday 8-10pm. Why not come and enjoy a game of skittles with fellow members. Guests are welcomed\, and even make new friends. Every member/guest is welcomed\, more info from Chris Sutton 07977092481.
URL:https://www.hookhillscommunitycentre.co.uk/event/social-skittles-2-2-2-2/2026-09-10/
LOCATION:Hookhills Community Centre\, Freshwater Drive\, Paignton\, Devon\, TQ4 7SB\, United Kingdom
CATEGORIES:Recurring Events
ATTACH;FMTTYPE=image/jpeg:https://www.hookhillscommunitycentre.co.uk/wp-content/uploads/2025/04/Slide26.jpg
GEO:50.4094084;-3.5683209
X-APPLE-STRUCTURED-LOCATION;VALUE=URI;X-ADDRESS=Hookhills Community Centre Freshwater Drive Paignton Devon TQ4 7SB United Kingdom;X-APPLE-RADIUS=500;X-TITLE=Freshwater Drive:geo:-3.5683209,50.4094084
END:VEVENT
END:VCALENDAR