BEGIN:VCALENDAR
VERSION:2.0
PRODID:-//Hookhills &amp; Broadsands Community Centre - ECPv6.5.0//NONSGML v1.0//EN
CALSCALE:GREGORIAN
METHOD:PUBLISH
X-ORIGINAL-URL:https://www.hookhillscommunitycentre.co.uk
X-WR-CALDESC:Events for Hookhills &amp; Broadsands Community Centre
REFRESH-INTERVAL;VALUE=DURATION:PT1H
X-Robots-Tag:noindex
X-PUBLISHED-TTL:PT1H
BEGIN:VTIMEZONE
TZID:Europe/London
BEGIN:DAYLIGHT
TZOFFSETFROM:+0000
TZOFFSETTO:+0100
TZNAME:BST
DTSTART:20260329T010000
END:DAYLIGHT
BEGIN:STANDARD
TZOFFSETFROM:+0100
TZOFFSETTO:+0000
TZNAME:GMT
DTSTART:20261025T010000
END:STANDARD
END:VTIMEZONE
BEGIN:VEVENT
DTSTART;TZID=Europe/London:20260202T190000
DTEND;TZID=Europe/London:20260202T220000
DTSTAMP:20260423T084700
CREATED:20260109T123608Z
LAST-MODIFIED:20260109T123640Z
UID:10013608-1770058800-1770069600@www.hookhillscommunitycentre.co.uk
SUMMARY:Board Games Trial!
DESCRIPTION:Starting on Monday at 6pm\nCome with friends or make some new ones.\nBeat the January blues in a warm environment.\nIf anyone has any board games\, they wish to donate we would be very grateful.\nI know of one elderly gentleman who is keen to find someone who is keen to have a game of chess or two\, if this is perhaps you\, I know it would really make his/her day.
URL:https://www.hookhillscommunitycentre.co.uk/event/board-games-trial/2026-02-02/
LOCATION:Hookhills Community Centre\, Freshwater Drive\, Paignton\, Devon\, TQ4 7SB\, United Kingdom
CATEGORIES:Recurring Events
ATTACH;FMTTYPE=image/jpeg:https://www.hookhillscommunitycentre.co.uk/wp-content/uploads/2026/01/Slide2.jpg
GEO:50.4094084;-3.5683209
X-APPLE-STRUCTURED-LOCATION;VALUE=URI;X-ADDRESS=Hookhills Community Centre Freshwater Drive Paignton Devon TQ4 7SB United Kingdom;X-APPLE-RADIUS=500;X-TITLE=Freshwater Drive:geo:-3.5683209,50.4094084
END:VEVENT
BEGIN:VEVENT
DTSTART;TZID=Europe/London:20260209T190000
DTEND;TZID=Europe/London:20260209T220000
DTSTAMP:20260423T084700
CREATED:20260109T123608Z
LAST-MODIFIED:20260109T123640Z
UID:10013609-1770663600-1770674400@www.hookhillscommunitycentre.co.uk
SUMMARY:Board Games Trial!
DESCRIPTION:Starting on Monday at 6pm\nCome with friends or make some new ones.\nBeat the January blues in a warm environment.\nIf anyone has any board games\, they wish to donate we would be very grateful.\nI know of one elderly gentleman who is keen to find someone who is keen to have a game of chess or two\, if this is perhaps you\, I know it would really make his/her day.
URL:https://www.hookhillscommunitycentre.co.uk/event/board-games-trial/2026-02-09/
LOCATION:Hookhills Community Centre\, Freshwater Drive\, Paignton\, Devon\, TQ4 7SB\, United Kingdom
CATEGORIES:Recurring Events
ATTACH;FMTTYPE=image/jpeg:https://www.hookhillscommunitycentre.co.uk/wp-content/uploads/2026/01/Slide2.jpg
GEO:50.4094084;-3.5683209
X-APPLE-STRUCTURED-LOCATION;VALUE=URI;X-ADDRESS=Hookhills Community Centre Freshwater Drive Paignton Devon TQ4 7SB United Kingdom;X-APPLE-RADIUS=500;X-TITLE=Freshwater Drive:geo:-3.5683209,50.4094084
END:VEVENT
BEGIN:VEVENT
DTSTART;TZID=Europe/London:20260216T190000
DTEND;TZID=Europe/London:20260216T220000
DTSTAMP:20260423T084700
CREATED:20260109T123608Z
LAST-MODIFIED:20260109T123640Z
UID:10013610-1771268400-1771279200@www.hookhillscommunitycentre.co.uk
SUMMARY:Board Games Trial!
DESCRIPTION:Starting on Monday at 6pm\nCome with friends or make some new ones.\nBeat the January blues in a warm environment.\nIf anyone has any board games\, they wish to donate we would be very grateful.\nI know of one elderly gentleman who is keen to find someone who is keen to have a game of chess or two\, if this is perhaps you\, I know it would really make his/her day.
URL:https://www.hookhillscommunitycentre.co.uk/event/board-games-trial/2026-02-16/
LOCATION:Hookhills Community Centre\, Freshwater Drive\, Paignton\, Devon\, TQ4 7SB\, United Kingdom
CATEGORIES:Recurring Events
ATTACH;FMTTYPE=image/jpeg:https://www.hookhillscommunitycentre.co.uk/wp-content/uploads/2026/01/Slide2.jpg
GEO:50.4094084;-3.5683209
X-APPLE-STRUCTURED-LOCATION;VALUE=URI;X-ADDRESS=Hookhills Community Centre Freshwater Drive Paignton Devon TQ4 7SB United Kingdom;X-APPLE-RADIUS=500;X-TITLE=Freshwater Drive:geo:-3.5683209,50.4094084
END:VEVENT
BEGIN:VEVENT
DTSTART;TZID=Europe/London:20260221T183000
DTEND;TZID=Europe/London:20260221T213000
DTSTAMP:20260423T084700
CREATED:20251204T125026Z
LAST-MODIFIED:20260220T123044Z
UID:10013509-1771698600-1771709400@www.hookhillscommunitycentre.co.uk
SUMMARY:Dave Cares All Abilities Disco Christmas
DESCRIPTION:All abilities disco will be in full swing 6.30-9.30pm. Come and enjoy this great final night of 2025\, the all abilities disco. £5 ticket. Food available to order.
URL:https://www.hookhillscommunitycentre.co.uk/event/dave-cares-all-abilities-disco-christmas/
LOCATION:Hookhills Community Centre\, Freshwater Drive\, Paignton\, Devon\, TQ4 7SB\, United Kingdom
CATEGORIES:One Time Events
ATTACH;FMTTYPE=image/jpeg:https://www.hookhillscommunitycentre.co.uk/wp-content/uploads/2026/02/Slide20.jpg
GEO:50.4094084;-3.5683209
X-APPLE-STRUCTURED-LOCATION;VALUE=URI;X-ADDRESS=Hookhills Community Centre Freshwater Drive Paignton Devon TQ4 7SB United Kingdom;X-APPLE-RADIUS=500;X-TITLE=Freshwater Drive:geo:-3.5683209,50.4094084
END:VEVENT
BEGIN:VEVENT
DTSTART;TZID=Europe/London:20260223T190000
DTEND;TZID=Europe/London:20260223T220000
DTSTAMP:20260423T084700
CREATED:20260109T123608Z
LAST-MODIFIED:20260109T123640Z
UID:10013611-1771873200-1771884000@www.hookhillscommunitycentre.co.uk
SUMMARY:Board Games Trial!
DESCRIPTION:Starting on Monday at 6pm\nCome with friends or make some new ones.\nBeat the January blues in a warm environment.\nIf anyone has any board games\, they wish to donate we would be very grateful.\nI know of one elderly gentleman who is keen to find someone who is keen to have a game of chess or two\, if this is perhaps you\, I know it would really make his/her day.
URL:https://www.hookhillscommunitycentre.co.uk/event/board-games-trial/2026-02-23/
LOCATION:Hookhills Community Centre\, Freshwater Drive\, Paignton\, Devon\, TQ4 7SB\, United Kingdom
CATEGORIES:Recurring Events
ATTACH;FMTTYPE=image/jpeg:https://www.hookhillscommunitycentre.co.uk/wp-content/uploads/2026/01/Slide2.jpg
GEO:50.4094084;-3.5683209
X-APPLE-STRUCTURED-LOCATION;VALUE=URI;X-ADDRESS=Hookhills Community Centre Freshwater Drive Paignton Devon TQ4 7SB United Kingdom;X-APPLE-RADIUS=500;X-TITLE=Freshwater Drive:geo:-3.5683209,50.4094084
END:VEVENT
BEGIN:VEVENT
DTSTART;TZID=Europe/London:20260228T200000
DTEND;TZID=Europe/London:20260228T230000
DTSTAMP:20260423T084700
CREATED:20260225T124948Z
LAST-MODIFIED:20260225T125019Z
UID:10014005-1772308800-1772319600@www.hookhillscommunitycentre.co.uk
SUMMARY:Hookhills Community Centre Free Entertainment
DESCRIPTION:It’s almost time for our monthly entertainment up in the members bar (children and guests welcome) adult guests please need to be signed in.Book him in on your calendar\, definitely not one to miss. And don’t forget it is free.
URL:https://www.hookhillscommunitycentre.co.uk/event/hookhills-community-centre-free-entertainment/
LOCATION:Hookhills Community Centre\, Freshwater Drive\, Paignton\, Devon\, TQ4 7SB\, United Kingdom
CATEGORIES:One Time Events
ATTACH;FMTTYPE=image/jpeg:https://www.hookhillscommunitycentre.co.uk/wp-content/uploads/2026/02/Slide4.jpg
GEO:50.4094084;-3.5683209
X-APPLE-STRUCTURED-LOCATION;VALUE=URI;X-ADDRESS=Hookhills Community Centre Freshwater Drive Paignton Devon TQ4 7SB United Kingdom;X-APPLE-RADIUS=500;X-TITLE=Freshwater Drive:geo:-3.5683209,50.4094084
END:VEVENT
END:VCALENDAR