BEGIN:VCALENDAR
VERSION:2.0
PRODID:-//Hookhills &amp; Broadsands Community Centre - ECPv6.5.0//NONSGML v1.0//EN
CALSCALE:GREGORIAN
METHOD:PUBLISH
X-WR-CALNAME:Hookhills &amp; Broadsands Community Centre
X-ORIGINAL-URL:https://www.hookhillscommunitycentre.co.uk
X-WR-CALDESC:Events for Hookhills &amp; Broadsands Community Centre
REFRESH-INTERVAL;VALUE=DURATION:PT1H
X-Robots-Tag:noindex
X-PUBLISHED-TTL:PT1H
BEGIN:VTIMEZONE
TZID:Europe/London
BEGIN:DAYLIGHT
TZOFFSETFROM:+0000
TZOFFSETTO:+0100
TZNAME:BST
DTSTART:20260329T010000
END:DAYLIGHT
BEGIN:STANDARD
TZOFFSETFROM:+0100
TZOFFSETTO:+0000
TZNAME:GMT
DTSTART:20261025T010000
END:STANDARD
END:VTIMEZONE
BEGIN:VEVENT
DTSTART;TZID=Europe/London:20260427T190000
DTEND;TZID=Europe/London:20260427T220000
DTSTAMP:20260422T182139
CREATED:20260316T094311Z
LAST-MODIFIED:20260316T094312Z
UID:10013620-1777316400-1777327200@www.hookhillscommunitycentre.co.uk
SUMMARY:Board Games Trial!
DESCRIPTION:Starting on Monday at 6pm\nCome with friends or make some new ones.\nIf anyone has any board games\, they wish to donate we would be very grateful.\nI know of one elderly gentleman who is keen to find someone who is keen to have a game of chess or two\, if this is perhaps you\, I know it would really make his/her day.
URL:https://www.hookhillscommunitycentre.co.uk/event/board-games-trial-2/2026-04-27/
LOCATION:Hookhills Community Centre\, Freshwater Drive\, Paignton\, Devon\, TQ4 7SB\, United Kingdom
CATEGORIES:Recurring Events
ATTACH;FMTTYPE=image/jpeg:https://www.hookhillscommunitycentre.co.uk/wp-content/uploads/2026/01/Slide28.jpg
GEO:50.4094084;-3.5683209
X-APPLE-STRUCTURED-LOCATION;VALUE=URI;X-ADDRESS=Hookhills Community Centre Freshwater Drive Paignton Devon TQ4 7SB United Kingdom;X-APPLE-RADIUS=500;X-TITLE=Freshwater Drive:geo:-3.5683209,50.4094084
END:VEVENT
END:VCALENDAR